BEGIN:VCALENDAR
VERSION:2.0
PRODID:-//Squarespace Inc/Squarespace 6//v6//EN
BEGIN:VEVENT
UID:5b1760eb562fa70b3acdf1ff@squarespace.com
DTSTAMP:20180606T042526Z
DTSTART:20180609T150000Z
DTEND:20180610T050000Z
SUMMARY:World Gin Day
GEO:-37.814973;144.964078
LOCATION:Chuckle Park\, 318 Little Collins Street\, Melbourne\, VIC\, 3000\
 , Australia
END:VEVENT
END:VCALENDAR
