BEGIN:VCALENDAR
VERSION:2.0
PRODID:-//Squarespace Inc/Squarespace 6//v6//EN
BEGIN:VEVENT
UID:5ae174d7758d46b32ee0bd96@squarespace.com
DTSTAMP:20180606T042502Z
DTSTART:20180429T150000Z
DTEND:20180528T035900Z
SUMMARY:Sunday Bloody Mary!
GEO:-37.814985;144.96405
LOCATION:Chuckle Park\, 322 Little Collins Street\, Melbourne\, VIC\, 3000\
 , Australia
END:VEVENT
END:VCALENDAR
