BEGIN:VCALENDAR
VERSION:2.0
PRODID:-//Squarespace Inc/Squarespace 6//v6//EN
BEGIN:VEVENT
UID:5c18848088251b7ea8300be3@squarespace.com
DTSTAMP:20181218T053631Z
DTSTART:20190101T020000Z
DTEND:20190101T080000Z
SUMMARY:NYE at Chuckle Park!
END:VEVENT
END:VCALENDAR
