BEGIN:VCALENDAR
VERSION:2.0
PRODID:-//Squarespace Inc/Squarespace 6//v6//EN
BEGIN:VEVENT
UID:5b960b9340ec9a30c755b94c@squarespace.com
DTSTAMP:20180910T062919Z
DTSTART:20181001T160000Z
DTEND:20181002T020000Z
SUMMARY:Jameson Park: A Bartenders' Picnic
GEO:-37.814985;144.96405
LOCATION:Chuckle Park\, 322 Little Collins Street\, Melbourne\, VIC\, 3000\
 , Australia
END:VEVENT
END:VCALENDAR
