BEGIN:VCALENDAR
VERSION:2.0
PRODID:-//Squarespace Inc/Squarespace 6//v6//EN
BEGIN:VEVENT
UID:5c7330fd8165f58920d16445@squarespace.com
DTSTAMP:20190225T020945Z
DTSTART:20190314T190000Z
DTEND:20190315T050000Z
SUMMARY:Neverending Summer at Chuckle Park
GEO:-37.814985;144.96405
LOCATION:Chuckle Park\, 322 Little Collins Street\, Melbourne\, Australia
END:VEVENT
END:VCALENDAR
