BEGIN:VCALENDAR
VERSION:2.0
PRODID:-//Squarespace Inc/Squarespace 6//v6//EN
BEGIN:VEVENT
UID:5c7654caf9619a0923319e32@squarespace.com
DTSTAMP:20190227T095642Z
DTSTART:20190227T093000Z
DTEND:20190227T103000Z
SUMMARY:Park Party: every Friday night!
GEO:-37.814985;144.96405
LOCATION:Chuckle Park\, 322 Little Collins Street\, Melbourne\, VIC\, 3000\
 , Australia
END:VEVENT
END:VCALENDAR
