BEGIN:VCALENDAR
VERSION:2.0
PRODID:-//Squarespace Inc/Squarespace 6//v6//EN
BEGIN:VEVENT
UID:5b8d0319898583fbc6c0c38f@squarespace.com
DTSTAMP:20181203T022301Z
DTSTART:20181021T140000Z
DTEND:20181022T010000Z
SUMMARY:Snow Day Sundays!
GEO:-37.814985;144.96405
LOCATION:Chuckle Park\, 322 Little Collins Street\, Melbourne\, VIC\, 3000\
 , Australia
END:VEVENT
END:VCALENDAR
