BEGIN:VCALENDAR
VERSION:2.0
PRODID:-//Squarespace Inc/Squarespace 6//v6//EN
BEGIN:VEVENT
UID:5c04938588251b7718b07ff3@squarespace.com
DTSTAMP:20181203T022711Z
DTSTART:20181201T220000Z
DTEND:20181225T020000Z
SUMMARY:Snow Days at Chuckle Park!
GEO:-37.814985;144.96405
LOCATION:Chuckle Park\, 322 Little Collins Street\, Melbourne\, VIC\, 3000\
 , Australia
END:VEVENT
END:VCALENDAR
