BEGIN:VCALENDAR
VERSION:2.0
PRODID:-//Squarespace Inc/Squarespace 6//v6//EN
BEGIN:VEVENT
UID:5b3087a570a6ade8bccf1d8c@squarespace.com
DTSTAMP:20180716T042740Z
DTSTART:20180729T160000Z
DTEND:20180730T010000Z
SUMMARY:Chuckle Park Winter Camp
GEO:-37.814985;144.96405
LOCATION:Chuckle Park\, 322 Little Collins Street\, Melbourne\, VIC\, 3000\
 , Australia
END:VEVENT
END:VCALENDAR
