BEGIN:VCALENDAR
VERSION:2.0
PRODID:-//Squarespace Inc/Squarespace 6//v6//EN
BEGIN:VEVENT
UID:5c6a040ce79c705013e85edd@squarespace.com
DTSTAMP:20190218T010632Z
DTSTART:20190222T200000Z
DTEND:20190223T060000Z
SUMMARY:World Margarita Day presented by Tromba
GEO:-37.814985;144.96405
LOCATION:Chuckle Park\, 322 Little Collins Street\, Melbourne\, VIC\, 3000\
 , Australia
END:VEVENT
END:VCALENDAR
