BEGIN:VCALENDAR
VERSION:2.0
PRODID:-//Squarespace Inc/Squarespace 6//v6//EN
BEGIN:VEVENT
UID:5afe98630e2e72e7abe74d92@squarespace.com
DTSTAMP:20180518T092007Z
DTSTART:20180519T150000Z
DTEND:20180520T050000Z
SUMMARY:World Whisky Day
GEO:-37.814985;144.96405
LOCATION:Chuckle Park\, 322 Little Collins Street\, Melbourne\, VIC\, 3000\
 , Australia
END:VEVENT
END:VCALENDAR
